BEGIN:VCALENDAR
VERSION:2.0
PRODID:-//Stiftung Sera - ECPv4.9.3.1//NONSGML v1.0//EN
CALSCALE:GREGORIAN
METHOD:PUBLISH
X-WR-CALNAME:Stiftung Sera
X-ORIGINAL-URL:https://www.stiftung-sera.ch
X-WR-CALDESC:Events for Stiftung Sera
BEGIN:VEVENT
DTSTART;TZID=UTC+0:20210410T203000
DTEND;TZID=UTC+0:20210410T220000
DTSTAMP:20260425T140344
CREATED:20210312T223948Z
LAST-MODIFIED:20210317T172958Z
UID:1156-1618086600-1618092000@www.stiftung-sera.ch
SUMMARY:Seminar - Eltern und Schule in der Schweiz
DESCRIPTION:\nWie nimmt man mit den Lehrpersonen Kontakt auf? \nWie können Eltern am schulischen Alltag ihrer Kinder teilnehmen? \nWelche fachlichen Unterstützungen sind vorhanden? \nWelche Bedeutung hat die Teilnahme an einem Elternabend? \n\nMit diesen und weiteren Fragen möchten wir uns in unserem Seminar beschäftigen.  \nDie Stiftung SERA greift das Thema Eltern und Schule auf und lädt Sie zu einem Online-Vortrag ein\, welcher in der türkischen Sprache stattfinden wird.  \nWann: Samstag\, den 10. April 2021\, um 20:30 – 22:00 Uhr\nWo: Online (Zoom – Meeting) \nIhre definitive Anmeldung zu diesem Vortrag erwarten wir gerne über den folgenden Link\, wo auch der Teilnahme-Link zum Programm angegeben ist: \nhttps://forms.gle/stnSqL6gsMWPqxrm9 \nDie Informationsveranstaltung ist kostenlos und sie wird im Auftrag der Integrationsförderung Stadt Zürich durchgeführt. Wir freuen uns über Ihre Teilnahme. \n  \n \nFlyer_-_Schule_und_Eltern \n
URL:https://www.stiftung-sera.ch/event/seminar-eltern-und-schule-in-der-schweiz/
END:VEVENT
END:VCALENDAR